BEGIN:VCALENDAR
VERSION:2.0
PRODID:-//Microbiome Times Magazine - ECPv6.11.2.1//NONSGML v1.0//EN
CALSCALE:GREGORIAN
METHOD:PUBLISH
X-ORIGINAL-URL:https://www.microbiometimes.com
X-WR-CALDESC:Events for Microbiome Times Magazine
REFRESH-INTERVAL;VALUE=DURATION:PT1H
X-Robots-Tag:noindex
X-PUBLISHED-TTL:PT1H
BEGIN:VTIMEZONE
TZID:Europe/Athens
BEGIN:DAYLIGHT
TZOFFSETFROM:+0200
TZOFFSETTO:+0300
TZNAME:EEST
DTSTART:20200329T010000
END:DAYLIGHT
BEGIN:STANDARD
TZOFFSETFROM:+0300
TZOFFSETTO:+0200
TZNAME:EET
DTSTART:20201025T010000
END:STANDARD
END:VTIMEZONE
BEGIN:VEVENT
DTSTART;VALUE=DATE:20200116
DTEND;VALUE=DATE:20200118
DTSTAMP:20260420T121056
CREATED:20191017T114428Z
LAST-MODIFIED:20191017T114428Z
UID:3560-1579132800-1579305599@www.microbiometimes.com
SUMMARY:Rhode Island Microbiome Symposium 2020
DESCRIPTION:We welcome you to attend the inaugural Rhode Island Microbiome Symposium to be held January 16-17\, 2020 at Avedisian Hall at the University of Rhode Island.  This symposium is to bring together Rhode Island and other researchers who conduct or are interested in conducted microbiome research.  The symposium will include two keynote speakers (Dr. Sarah Hird from the University of Connecticut and Dr. Tami Lieberman from MIT)\, formal talks from Rhode Island researchers\, lightning talks for students and postdocs\, a poster session and break-out sessions for bioinformatics/sequencing cores and vendors. \nThe goal of this symposium is to promote microbiome and microbial research in Rhode Island by bringing together researchers from state universities and hospitals who currently work on microbiome research or who are interested in starting microbiome research.  We hope this symposium will stimulate networking and result in new collaborations\, grant proposals and manuscripts.  While the scope is broad to encourage participation\, the general focus will be on microbiome research relevant to the State of Rhode Island such as ocean health\, aquaculture and precision medicine initiatives.
URL:https://www.microbiometimes.com/event/rhode-island-microbiome-symposium-2020/
LOCATION:Kingston\, RI\, United States
END:VEVENT
END:VCALENDAR