BEGIN:VCALENDAR
VERSION:2.0
PRODID:-//Microbiome Times Magazine - ECPv6.11.2.1//NONSGML v1.0//EN
CALSCALE:GREGORIAN
METHOD:PUBLISH
X-WR-CALNAME:Microbiome Times Magazine
X-ORIGINAL-URL:https://www.microbiometimes.com
X-WR-CALDESC:Events for Microbiome Times Magazine
REFRESH-INTERVAL;VALUE=DURATION:PT1H
X-Robots-Tag:noindex
X-PUBLISHED-TTL:PT1H
BEGIN:VTIMEZONE
TZID:Europe/Athens
BEGIN:DAYLIGHT
TZOFFSETFROM:+0200
TZOFFSETTO:+0300
TZNAME:EEST
DTSTART:20190331T010000
END:DAYLIGHT
BEGIN:STANDARD
TZOFFSETFROM:+0300
TZOFFSETTO:+0200
TZNAME:EET
DTSTART:20191027T010000
END:STANDARD
END:VTIMEZONE
BEGIN:VEVENT
DTSTART;VALUE=DATE:20191031
DTEND;VALUE=DATE:20191103
DTSTAMP:20260422T152906
CREATED:20191017T091814Z
LAST-MODIFIED:20191017T091814Z
UID:3522-1572480000-1572739199@www.microbiometimes.com
SUMMARY:First International Conference World of Microbiome: Pregnancy\, Birth and Infancy
DESCRIPTION:The microbiota has profound effects on fetal\, neonatal and infant health & development as well as maternal health.\nJoin the first international platform for all forward-looking professionals\, across microbiology\, immunology\, obstetrics\, neonatology\, pediatrics and industry.\n\n\nDiscuss the latest findings and their potential impact\nGain knowledge and tools to advance your career in the world of microbiome\nUnderstand how the microbiome affects health and development\nForm new collaborations\n\n\n\nBe part of the future and mark your calendar for Milan\, 31 October – 2 November 2019.
URL:https://www.microbiometimes.com/event/first-international-conference-world-of-microbiome-pregnancy-birth-and-infancy/
LOCATION:Milan\, Italy
ATTACH;FMTTYPE=image/png:https://www.microbiometimes.com/wp-content/uploads/2019/10/Milan-Event.png
ORGANIZER;CN="TWT srl":MAILTO:gfrontani@twt-team.it
END:VEVENT
BEGIN:VEVENT
DTSTART;VALUE=DATE:20191101
DTEND;VALUE=DATE:20191102
DTSTAMP:20260422T152906
CREATED:20191017T093926Z
LAST-MODIFIED:20191017T093926Z
UID:3530-1572566400-1572652799@www.microbiometimes.com
SUMMARY:2019 Microbiome Innovation Summit
DESCRIPTION:The Jackson Laboratory for Genomic Medicine \nWith support from Connecticut Innovations\, The Jackson Laboratory will host the Microbiome Innovation Summit\, bringing together experts in all aspects of microbiome research to present the latest research exploring the functions of microbial communities and how knowledge about these systems can be applied in medicine\, agriculture\, and other fields. \nOur goals are to provide an expert overview and stimulating discussion of: \n\nthe current landscape in microbiome research and development\napproaches for understanding the basis of host/microbe interactions\nbest practices for experimental design and reproducibility\nengineering of microbial systems to meet specific objectives\nfuture directions in microbiome commercialization\n\nThe keynote speaker will be Dr. Liping Zhao of Rutgers University\, whose lab develops molecular and genomic tools for systems understanding and predictive manipulation of the complex microbial communities in human and animal guts. \nOther speakers include Christoph Thaiss\, Tami Lieberman\, Cara Haney\, Alvaro Sanchez\, Shipra Vaishnava and more.  The full agenda will be available soon.
URL:https://www.microbiometimes.com/event/2019-microbiome-innovation-summit/
LOCATION:Farmington\, CT\, United States
ATTACH;FMTTYPE=image/jpeg:https://www.microbiometimes.com/wp-content/uploads/2019/10/Connecticut-Event.jpg
END:VEVENT
BEGIN:VEVENT
DTSTART;VALUE=DATE:20191104
DTEND;VALUE=DATE:20191106
DTSTAMP:20260422T152906
CREATED:20191017T094241Z
LAST-MODIFIED:20191017T094241Z
UID:3536-1572825600-1572998399@www.microbiometimes.com
SUMMARY:Pittsburgh Rust Belt Microbiome Conference
DESCRIPTION:The goal of the Pittsburgh Rust Belt Microbiome (RBM) Conference is to bring together the microbiome\, microbial evolution\, and pathogenesis research communities from academic institutions and medical centers in the Rust Belt Region.\nOur program integrates basic and translational science researchers and physicians in clinical practice at all levels of their careers. Plenary session\, keynote talks\, poster sessions\, lunches\, and a banquet dinner will provide multiple opportunities for participants to present and discuss their work.
URL:https://www.microbiometimes.com/event/pittsburgh-rust-belt-microbiome-conference/
LOCATION:Pittsburgh\, PA\, United States
ATTACH;FMTTYPE=image/jpeg:https://www.microbiometimes.com/wp-content/uploads/2019/10/Pitssburgh-Event.jpg
ORGANIZER;CN="Carnegie Mellon University":MAILTO:lhiller@andrew.cmu.edu
END:VEVENT
BEGIN:VEVENT
DTSTART;VALUE=DATE:20191109
DTEND;VALUE=DATE:20191113
DTSTAMP:20260422T152906
CREATED:20191017T094630Z
LAST-MODIFIED:20191017T094630Z
UID:3542-1573257600-1573603199@www.microbiometimes.com
SUMMARY:India|EMBO Symposium – Human microbiome: Resistance and disease
DESCRIPTION:The importance of Human Microbiome research is rapidly gaining momentum for understanding its role in human health and disease. This requires specialized training in efficient statistical and computational algorithms to analyse the big data generated from high-throughput sequencing platforms and provide valid inferences. The field of microbiome research has witnessed an upsurge of various statistical and bioinformatics methods and softwares without adequate manpower trained in proper usage of such tools. Thus\, microbiome studies run the danger of identifying spurious associations in patient cohorts with little biological implications for prediction\, prognostication and therapy. The present India|EMBO Symposium\, organised by Karen Nelson\, Indresh Singh\, Harinder Singh from JCVI and Souvik Mukherjee and Partha P Majumder from NIBMG\, will cover topics related to recent advancements in human microbiome sequencing\, antimicrobial resistance\, clinical metagenomics\, model based analysis of human microbiome\, metatranscriptomics and metaproteomics approaches. This India|EMBO Symposium will also include a satellite workshop on metagenomic data analysis and visualization. The present symposium is a timely step in addressing these relevant topics which will help in the development of a multi-dimensional host-microbiome research environment in India.
URL:https://www.microbiometimes.com/event/indiaembo-symposium-human-microbiome-resistance-and-disease/
LOCATION:Kalyani\, India
ORGANIZER;CN="EMBO":MAILTO:iaembo.symp@gmail.com
END:VEVENT
BEGIN:VEVENT
DTSTART;VALUE=DATE:20191111
DTEND;VALUE=DATE:20191114
DTSTAMP:20260422T152906
CREATED:20191017T100542Z
LAST-MODIFIED:20191017T100542Z
UID:3547-1573430400-1573689599@www.microbiometimes.com
SUMMARY:3rd Microbiome Movement – Human Nutrition Summit
DESCRIPTION:As researchers continue to uncover the power of the human microbiome to improve health and wellbeing across a diverse list of indications and product applications\, the 3rd Microbiome Movement – Human Nutrition Summit proudly returns to Boston as the only meeting that carefully combines cutting-edge basic and clinical science with product developers from the global food\, supplement and nutraceutical industry to help develop a new generation of nutritional solutions that target and modulate the human microbiome to promote long-term human health. \nAcross a comprehensive three day program\, this year’s Microbiome Movement – Human Nutrition Summit will continue to address three key topic areas: \n\nBetter demonstrate the scientific and clinical efficacy of diet-microbiome interactions across a diverse range of health indications and mechanisms\n\n2. Learn how start-ups\, academics and leading nutritional brands are overcoming critical clinical\, regulatory and commercialization challenges when utilizing microbiome science to drive the development of personalized nutritional solutions \n3. See how microbiome experts are establishing brands that engage their target market\, to better communicate the benefits of microbiome research and help differentiate their products from competitors
URL:https://www.microbiometimes.com/event/3rd-microbiome-movement-human-nutrition-summit/
LOCATION:Boston\, MA\, United States
ATTACH;FMTTYPE=image/png:https://www.microbiometimes.com/wp-content/uploads/2019/10/Boston-Nutrition-Event.png
ORGANIZER;CN="Hanson Wade":MAILTO:info@hansonwade.com
END:VEVENT
BEGIN:VEVENT
DTSTART;VALUE=DATE:20191113
DTEND;VALUE=DATE:20191115
DTSTAMP:20260422T152906
CREATED:20191017T100941Z
LAST-MODIFIED:20191017T100941Z
UID:3550-1573603200-1573775999@www.microbiometimes.com
SUMMARY:Skin Microbiome Congress
DESCRIPTION:With 2.35 billion Euros being spent on cosmetic product R&D in Europe\, are you ready for the next generation of skin care?\nSkin Microbiome continues it’s reign as the ‘biggest skincare trend‘ of the last two years\, according to major market researchers and beauty bibles alike.  This year\, we present the first dual-track\, data-focused skin microbiome congress: \n\nData Track: focuses on the hard data that supports and legitmises product and research claims while driving increased understanding of the skin microbiome.\n\n\nCommercial Track: tackles the challenges faced when building a commercially viable skin microbiome company\, optimising your supply chain and executing successful communication strategies.\n\nDiscover the potential of prebiotic\, probiotic and postbiotic products being developed to protect and promote a healthy microbiome and ultimately combat dermatological conditions from acne and eczema to dandruff and skin allergies. Don’t miss your chance to understand the next generation of skincare products!
URL:https://www.microbiometimes.com/event/skin-microbiome-congress-2/
LOCATION:London\, United Kingdom
ATTACH;FMTTYPE=image/png:https://www.microbiometimes.com/wp-content/uploads/2019/10/London-Skin-Event.png
END:VEVENT
BEGIN:VEVENT
DTSTART;VALUE=DATE:20191113
DTEND;VALUE=DATE:20191115
DTSTAMP:20260422T152906
CREATED:20191104T191957Z
LAST-MODIFIED:20191104T191957Z
UID:3596-1573603200-1573775999@www.microbiometimes.com
SUMMARY:5th annual European Microbiome Congress
DESCRIPTION:The gut microbiota’s importance in human health and disease progression spreads far wider than just gastro-intestinal conditions. The immune\, nervous and metabolic systems couple the microbiome with the rest of the body and play a crucial and interlinking role in extra-intestinal diseases including neurological\, cancer and metabolic conditions. \nFor the 5th annual European Microbiome Congress\, we’ve shifted the focus from gastro-intestinal to extra-intestinal as we examine the latest pre-clinical and clinical data demonstrating the gut microbiota’s role in some of the world’s most critical and costly diseases in modern society. \nJoin key opinion leaders from across academia and industry to examine the latest research data. This is your opportunity to find outhow others plan to translate the latest understanding of the gut-microbiome into therapeutic drugs that have the power to treat cancer\, metabolic\, neurodegenerative and psychiatric disorders.
URL:https://www.microbiometimes.com/event/5th-annual-european-microbiome-congress/
LOCATION:London\, United Kingdom
ATTACH;FMTTYPE=image/jpeg:https://www.microbiometimes.com/wp-content/uploads/2019/11/960x640-Micro-EU-banner.jpg
END:VEVENT
BEGIN:VEVENT
DTSTART;VALUE=DATE:20191121
DTEND;VALUE=DATE:20191123
DTSTAMP:20260422T152906
CREATED:20191017T102204Z
LAST-MODIFIED:20191017T102204Z
UID:3553-1574294400-1574467199@www.microbiometimes.com
SUMMARY:MIBIOC – The way of the microbiota in cancer
DESCRIPTION:It is the first conference dedicated to the microbiota in cancer with the participation of key opinion leaders from all over the world chaired by Giovanni Apolone and Riccardo Valdagni\, Fondazione IRCCS Istituto Nazionale dei Tumori\, Milan (see Speakers for details). \nAmong the topics: host-microbiota interaction\, role of microbiota in tumor growth\, association between microbiota and inflammation\, role of microbiota in the response to immuno-\, radio-  and chemotherapy. \nAttendees: Biologists\, Immunologists\, Medical Oncologists\, Medical Physicists\, Nutritionists Radiation Oncologists\, Surgeons and Medical Doctors of all specialties involved in the path of care and rehabilitation of oncologic patients.
URL:https://www.microbiometimes.com/event/mibioc-the-way-of-the-microbiota-in-cancer/
LOCATION:Milan\, Italy
ORGANIZER;CN="Cantiereventi srl":MAILTO:info@cantiereventi.com
END:VEVENT
END:VCALENDAR