BEGIN:VCALENDAR
VERSION:2.0
PRODID:-//Microbiome Times Magazine - ECPv6.11.2.1//NONSGML v1.0//EN
CALSCALE:GREGORIAN
METHOD:PUBLISH
X-ORIGINAL-URL:https://www.microbiometimes.com
X-WR-CALDESC:Events for Microbiome Times Magazine
REFRESH-INTERVAL;VALUE=DURATION:PT1H
X-Robots-Tag:noindex
X-PUBLISHED-TTL:PT1H
BEGIN:VTIMEZONE
TZID:Europe/Athens
BEGIN:DAYLIGHT
TZOFFSETFROM:+0200
TZOFFSETTO:+0300
TZNAME:EEST
DTSTART:20190331T010000
END:DAYLIGHT
BEGIN:STANDARD
TZOFFSETFROM:+0300
TZOFFSETTO:+0200
TZNAME:EET
DTSTART:20191027T010000
END:STANDARD
END:VTIMEZONE
BEGIN:VEVENT
DTSTART;TZID=Europe/Athens:20190514T080000
DTEND;TZID=Europe/Athens:20190516T170000
DTSTAMP:20260423T013108
CREATED:20190403T125527Z
LAST-MODIFIED:20190403T125527Z
UID:2552-1557820800-1558026000@www.microbiometimes.com
SUMMARY:2019 ISAPP Annual Meeting
DESCRIPTION:The 2019 ISAPP Annual Meeting will be held May 14-16th\, 2019 at the Radisson Blu Hotel in Antwerp\, Belgium.  \nThe 2019 ISAPP meeting is a by-invitation meeting – no open registration is available. The meeting comprises invited experts and representatives from ISAPP’s industry members. ISAPP industry membership includes 2 invitations to the ISAPP annual meeting. See here to learn about ISAPP industry membership.
URL:https://www.microbiometimes.com/event/2019-isapp-annual-meeting/
LOCATION:Antwerp\, Belgium
ATTACH;FMTTYPE=image/jpeg:https://www.microbiometimes.com/wp-content/uploads/2019/04/logo-new-web.jpg
END:VEVENT
BEGIN:VEVENT
DTSTART;VALUE=DATE:20190520
DTEND;VALUE=DATE:20190523
DTSTAMP:20260423T013108
CREATED:20190101T181218Z
LAST-MODIFIED:20190101T181218Z
UID:2019-1558310400-1558569599@www.microbiometimes.com
SUMMARY:Microbiome R&D and Business Collaboration Forum: Europe
DESCRIPTION:The 6th Microbiome R&D and Business Collaboration Forum is one of the three meetings forming the Microbiome Probiotics Series: Europe. \nThe 2019 series will bring together more than 400 industry\, academic\, and investment leaders to discuss the must cutting-edge microbiome research\, challenges and opportunities in moving research towards commercialisation\, and potential partnerships and collaborations. \nFor the first time\, this event will be three days. As an attendee\, you will get more in-depth content on the key challenges and topics facing researchers and product developers\, and more time to establish partnerships. Hear from top scientists in the field\, meet willing investors and collaborators\, and learn about exciting new companies in the microbiome space. With ample networking time and interactive sessions like the roundtable discussions\, there will be many opportunities to broaden your connections.
URL:https://www.microbiometimes.com/event/microbiome-rd-and-business-collaboration-forum-europe/
LOCATION:Postilion Convention Centre WTC\, Beursplein 37\, Rotterdam\, 3011 AA\, Netherlands
ATTACH;FMTTYPE=image/png:https://www.microbiometimes.com/wp-content/uploads/2019/01/global_engage_logo.png
END:VEVENT
BEGIN:VEVENT
DTSTART;VALUE=DATE:20190522
DTEND;VALUE=DATE:20190525
DTSTAMP:20260423T013108
CREATED:20190402T112909Z
LAST-MODIFIED:20190403T122014Z
UID:2523-1558483200-1558742399@www.microbiometimes.com
SUMMARY:Microbiome Movement – Maternal & Infant Health Summit
DESCRIPTION:The inaugural Microbiome Movement – Maternal & Infant Health Summit has been established to improve your understanding of the fundamental maternal-infant microbiome mechanisms of action and advance translation of this causality into evidence-based and clinically validated therapeutic\, nutritional and preventative solutions that will configure healthy foundations of the microbiome within the first 1000 days of life. This first-of-its-kind event is your opportunity to learn from the expertise of key opinion leaders from large pharma\, biotech and academic research institutes presenting the latest case studies and in-depth discussion on key topics including: \n\nDiscovering the causal relationships between the maternal-infant microbiome and disease onset\nExploring different therapeutic products that restore the infant microbiome\, as well as treat and prevent disease\nDiscussing study design for investigation of the microbiome in maternal and pediatric settings\nUnderstanding the role of the maternal microbiome in preterm birth and infant health outcomes\nOptimizing –omics and realizing how to integrate these data with novel pre-clinical modelling to generate clinically meaningful results\nExplaining regulatory processes for IND-approved products targeting maternal and infant populations\nAddressing public health\, economic and educational considerations for commercializing microbiome-based products for mothers and infants\n\nReceive an exclusive 20% discount on your registration when quoting VIP Code 13005MBT. \nVisit the website to learn more.
URL:https://www.microbiometimes.com/event/microbiome-movement-maternal-infant-health-summit/
LOCATION:Boston\, MA\, United States
ATTACH;FMTTYPE=image/jpeg:https://www.microbiometimes.com/wp-content/uploads/2019/04/Infant-Health-Social-Banner-Agenda.jpg
END:VEVENT
BEGIN:VEVENT
DTSTART;VALUE=DATE:20190523
DTEND;VALUE=DATE:20190524
DTSTAMP:20260423T013108
CREATED:20190403T124329Z
LAST-MODIFIED:20190403T124329Z
UID:2546-1558569600-1558655999@www.microbiometimes.com
SUMMARY:Microbiome Invest
DESCRIPTION:The Microbiome Invest Congress 2019 is dedicated to showcasing the most innovative emerging companies and academics with commercially viable research that manipulates the microbiome. Active investors\, and multi-national nutrition and health companies will also share their knowledge and perspectives on commercialisation and discuss the most cutting-edge products and research in the microbiome space. \nThis year we’re hosting our 3rd Annual ‘Pitch Your Microbes’ session – previous winners include Gallinée and TargEDys. This year’s winner will receive a residency with multinational consumer health giant\, RB. If you’re a microbiome biotech or an academic with an innovative idea\, now’s the time to apply.
URL:https://www.microbiometimes.com/event/microbiome-invest-2/
LOCATION:London\, United Kingdom
ATTACH;FMTTYPE=image/jpeg:https://www.microbiometimes.com/wp-content/uploads/2019/04/rb_corrected_logo.jpg
END:VEVENT
END:VCALENDAR