BEGIN:VCALENDAR
VERSION:2.0
PRODID:-//Microbiome Times Magazine - ECPv6.11.2.1//NONSGML v1.0//EN
CALSCALE:GREGORIAN
METHOD:PUBLISH
X-WR-CALNAME:Microbiome Times Magazine
X-ORIGINAL-URL:https://www.microbiometimes.com
X-WR-CALDESC:Events for Microbiome Times Magazine
REFRESH-INTERVAL;VALUE=DURATION:PT1H
X-Robots-Tag:noindex
X-PUBLISHED-TTL:PT1H
BEGIN:VTIMEZONE
TZID:Europe/Athens
BEGIN:DAYLIGHT
TZOFFSETFROM:+0200
TZOFFSETTO:+0300
TZNAME:EEST
DTSTART:20190331T010000
END:DAYLIGHT
BEGIN:STANDARD
TZOFFSETFROM:+0300
TZOFFSETTO:+0200
TZNAME:EET
DTSTART:20191027T010000
END:STANDARD
END:VTIMEZONE
BEGIN:VEVENT
DTSTART;VALUE=DATE:20190416
DTEND;VALUE=DATE:20190419
DTSTAMP:20260423T030021
CREATED:20190403T124830Z
LAST-MODIFIED:20190403T124830Z
UID:2549-1555372800-1555631999@www.microbiometimes.com
SUMMARY:5th Annual Translational Microbiome Conference
DESCRIPTION:Arrowhead Publishers is pleased to announce the return of its 5th Annual Translational Microbiome Conference to Boston on April 16-18\, 2019\, taking place at the Westin Copley Place. As the official conference of The Microbiome Coalition (TMBC)\, the Arrowhead Translational Microbiome Conference was the first microbiome conference in the field to focus exclusively on the hurdles and challenges to commercial success in the space. \nOnce again\, the conference will bring together the leading microbiome companies working to successfully commercialize microbiome-based diagnostics\, therapeutics\, adjunct therapies and direct-to-consumer services and products across a range of therapeutic areas\, from gut to skin and beyond. Expanding on this core focus year on year\, we continue to offer informative\, hands-on workshops\, panels sponsored and directed by industry to focus on your concerns and tightly curated content that goes beyond the usual infomercials to provide tangible and useful insights to how your peers are addressing their commercial approach to the space. \nEntering its 5th year in 2019\, the meeting will continue to focus and build on the challenges and hurdles that companies working in the microbiome space will have to recognize and navigate in order to successfully commercialize their products. With a broad focus spanning multiple disease states (oncology\, dermatology\, inflammatory disorders\, among others) attendees will have the opportunity to hear the leading companies discuss the work they have underway and how they are meeting these challenges head-on to apply recent discoveries to a variety of disease processes\, restoration of health and improved outcomes.
URL:https://www.microbiometimes.com/event/5th-annual-translational-microbiome-conference/
LOCATION:Boston\, MA\, United States
ATTACH;FMTTYPE=image/png:https://www.microbiometimes.com/wp-content/uploads/2019/04/WebHeader2019transparent.png
END:VEVENT
END:VCALENDAR