BEGIN:VCALENDAR
VERSION:2.0
PRODID:-//Microbiome Times Magazine - ECPv6.11.2.1//NONSGML v1.0//EN
CALSCALE:GREGORIAN
METHOD:PUBLISH
X-ORIGINAL-URL:https://www.microbiometimes.com
X-WR-CALDESC:Events for Microbiome Times Magazine
REFRESH-INTERVAL;VALUE=DURATION:PT1H
X-Robots-Tag:noindex
X-PUBLISHED-TTL:PT1H
BEGIN:VTIMEZONE
TZID:Europe/Athens
BEGIN:DAYLIGHT
TZOFFSETFROM:+0200
TZOFFSETTO:+0300
TZNAME:EEST
DTSTART:20190331T010000
END:DAYLIGHT
BEGIN:STANDARD
TZOFFSETFROM:+0300
TZOFFSETTO:+0200
TZNAME:EET
DTSTART:20191027T010000
END:STANDARD
END:VTIMEZONE
BEGIN:VEVENT
DTSTART;VALUE=DATE:20190310
DTEND;VALUE=DATE:20190315
DTSTAMP:20260423T043701
CREATED:20180420T191621Z
LAST-MODIFIED:20180420T191621Z
UID:724-1552176000-1552607999@www.microbiometimes.com
SUMMARY:Microbiome: Chemical Mechanisms and Biological Consequences
DESCRIPTION:
URL:https://www.microbiometimes.com/event/microbiome-chemical-mechanisms-and-biological-consequences/
LOCATION:Montreal\, Canada
END:VEVENT
BEGIN:VEVENT
DTSTART;VALUE=DATE:20190313
DTEND;VALUE=DATE:20190315
DTSTAMP:20260423T043701
CREATED:20190101T185917Z
LAST-MODIFIED:20190101T190004Z
UID:2037-1552435200-1552607999@www.microbiometimes.com
SUMMARY:Animal Microbiome Congress USA
DESCRIPTION:Following recent bans and restrictions on the use of antibiotic growth promotors in animal feed in both the E.U. and the U.S.\, a huge movement to find their alternatives has begun. With evidence emerging to support the beneficial effects of microbiome manipulation through prebiotics\, probiotics\, and other alternative strategies\, it is more important than ever to form collaborations to explore how to translate research into commercially viable products\, to promote health and improve feed efficiency of livestock animals. \nThe Animal Microbiome Congress will bring together leading experts  including veterinary researchers\, animal producers\, food retailers\, feed and strain manufacturers and animal nutrition and pharmaceutical companies\, to showcase unpublished and translatable research\, changing consumer priorities\, and evidence-based case studies from emerging biotech companies.
URL:https://www.microbiometimes.com/event/animal-microbiome-congress-usa-2/
LOCATION:DoubleTree by Hilton Kansas City\, Overland Park 10100 College Boulevard\, Overland Park\, Kansas City\, KS\, 66210\, United States
ATTACH;FMTTYPE=image/png:https://www.microbiometimes.com/wp-content/uploads/2019/01/annual_microbiome_logo.png
END:VEVENT
BEGIN:VEVENT
DTSTART;TZID=Europe/Athens:20190313T080000
DTEND;TZID=Europe/Athens:20190314T170000
DTSTAMP:20260423T043701
CREATED:20180419T094251Z
LAST-MODIFIED:20180804T100309Z
UID:564-1552464000-1552582800@www.microbiometimes.com
SUMMARY:Pharmabiotics 2019 Conference & Partnering
DESCRIPTION:Pharmabiotics Conference & Partnering is the leading event dedicated to Medicinal Microbiotic Products. Organised by the Pharmabiotic Research Institute\, the event consists of an Exhibition\, Conference\, Startup Pitch Slam and unique One-to-One Partnering Facility\, bringing together all actors involved in the international human microbiome community.
URL:https://www.microbiometimes.com/event/pharmabiotics-global-2018/
LOCATION:New Cap Event Centre\, 3 Quai de Grenelle\, Paris\, Paris\, 75015\, France
ATTACH;FMTTYPE=image/png:https://www.microbiometimes.com/wp-content/uploads/2018/04/Banner-01.png
END:VEVENT
BEGIN:VEVENT
DTSTART;VALUE=DATE:20190319
DTEND;VALUE=DATE:20190321
DTSTAMP:20260423T043701
CREATED:20180928T201552Z
LAST-MODIFIED:20180928T201552Z
UID:1703-1552953600-1553126399@www.microbiometimes.com
SUMMARY:Animal Microbiome Congress USA
DESCRIPTION:The Animal Microbiome Congress USA brings together leading veterinary researchers\, innovative biotechnology companies\, feed and strain manufacturers\, animal breeders and producers\, pharmaceutical companies\, regulatory bodies\, and cutting-edge solution providers to understand the latest research focusing on manipulating the animal microbiome\, form successful product development strategies\, and facilitate collaborations and business partnering.
URL:https://www.microbiometimes.com/event/animal-microbiome-congress-usa/
LOCATION:Doubletree by Hilton Kansas City\, Overland Park 66212 College Blvd. Overland Park Kansas 66212\, Kansas\, KS\, 10100\, United States
ATTACH;FMTTYPE=image/jpeg:https://www.microbiometimes.com/wp-content/uploads/2018/09/kisaco-animal-microbiome-congress-usa-logo.jpg
END:VEVENT
BEGIN:VEVENT
DTSTART;VALUE=DATE:20190323
DTEND;VALUE=DATE:20190325
DTSTAMP:20260423T043701
CREATED:20190101T181826Z
LAST-MODIFIED:20190101T181826Z
UID:2024-1553299200-1553471999@www.microbiometimes.com
SUMMARY:Gut Microbiota for Health World Summit 2019
DESCRIPTION:Join the American Gastroenterological Association (AGA) and the European Society of Neurogastroenterology and Motility(ESNM) for the 8th annual Gut Microbiota for Health World Summit (GMFH) World Summit. This preeminent meeting on the gut microbiota will take place March 23 & 24\, 2019 in Miami\, Florida (U.S.). \nThe 2019 program will present the latest evidence on the interaction between diet\, nutrition and the gut microbiome. Learn how diet and nutrition are being used in concert with traditional therapies to manage GI disorders. \nThe 2019 GMFH World Summit is sponsored by AGA and ESNM\, and the scientific committee is co-chaired by Gail Hecht\, MD\, MS\, AGAF\, (Loyola University Medical Center\, Chicago\, Illinois\, U.S.) and Francisco Guarner\, MD\, PhD (Vall d’Hebron University Hospital\, Barcelona\, Spain). The summit is endorsed by the American Neurogastroenterology and Motility Society (ANMS) and the European Society for Paediatric Gastroenterology\, Hepatology and Nutrition (ESPGHAN)\, and is made possible through support from Danone (the GMFH Founding Supporter) and Sanofi (Sustaining Supporter).
URL:https://www.microbiometimes.com/event/gut-microbiota-for-health-world-summit-2019/
LOCATION:InterContinental Miami\, 100 Chopin Plaza\,\, Miami\, Florida\, FL 33131\, United States
ATTACH;FMTTYPE=image/jpeg:https://www.microbiometimes.com/wp-content/uploads/2019/01/GutSummit_Wufoo_250x595.jpg
END:VEVENT
END:VCALENDAR