BEGIN:VCALENDAR
VERSION:2.0
PRODID:-//Microbiome Times Magazine - ECPv6.11.2.1//NONSGML v1.0//EN
CALSCALE:GREGORIAN
METHOD:PUBLISH
X-WR-CALNAME:Microbiome Times Magazine
X-ORIGINAL-URL:https://www.microbiometimes.com
X-WR-CALDESC:Events for Microbiome Times Magazine
REFRESH-INTERVAL;VALUE=DURATION:PT1H
X-Robots-Tag:noindex
X-PUBLISHED-TTL:PT1H
BEGIN:VTIMEZONE
TZID:Europe/Athens
BEGIN:DAYLIGHT
TZOFFSETFROM:+0200
TZOFFSETTO:+0300
TZNAME:EEST
DTSTART:20180325T010000
END:DAYLIGHT
BEGIN:STANDARD
TZOFFSETFROM:+0300
TZOFFSETTO:+0200
TZNAME:EET
DTSTART:20181028T010000
END:STANDARD
END:VTIMEZONE
BEGIN:VEVENT
DTSTART;VALUE=DATE:20180906
DTEND;VALUE=DATE:20180908
DTSTAMP:20260423T014044
CREATED:20180803T130847Z
LAST-MODIFIED:20180829T093721Z
UID:1341-1536192000-1536364799@www.microbiometimes.com
SUMMARY:BioTech Pharma Summit: Gut-Brain Axis 2018
DESCRIPTION:The Gut-Axis Conference Series (GAS) was designed to bring together all the key players who explore the gut and its communication with other organs\, for disease prevention and treatment\, through functional food\, new drugs and biomarkers discovery. The premiere edition will be dedicated to translating the communication between the Gut and the Brain\, implicated in a variety of disorders\, including neurological and psychiatric\, metabolic\, and gastrointestinal. The GAS main goal is to grow and address issues such as Gut health as well as its different Axes (brain\, liver\, lung\, pancreas\, kidney\, skin\, bone and thyroid). To do this\, we will bring together the world’s leading experts in each area and create a perfect environment for science and cooperation.
URL:https://www.microbiometimes.com/event/biotech-pharma-summit-gut-brain-axis-2018/
LOCATION:Le Meridien Etoile\, 81 Boulevard Gouvion Saint-Cyr\, Paris\, Paris\, 75017\, France
ATTACH;FMTTYPE=image/png:https://www.microbiometimes.com/wp-content/uploads/2018/08/Banner-Gut-Axis.png
END:VEVENT
BEGIN:VEVENT
DTSTART;VALUE=DATE:20180620
DTEND;VALUE=DATE:20180623
DTSTAMP:20260423T014044
CREATED:20180419T093817Z
LAST-MODIFIED:20180419T093817Z
UID:570-1529452800-1529711999@www.microbiometimes.com
SUMMARY:Microbiome Drug Development
DESCRIPTION:
URL:https://www.microbiometimes.com/event/microbiome-drug-development/
LOCATION:Boston\, United States
END:VEVENT
BEGIN:VEVENT
DTSTART;VALUE=DATE:20180618
DTEND;VALUE=DATE:20180622
DTSTAMP:20260423T014044
CREATED:20180419T100025Z
LAST-MODIFIED:20180419T100025Z
UID:597-1529280000-1529625599@www.microbiometimes.com
SUMMARY:International Probiotics Conference
DESCRIPTION:
URL:https://www.microbiometimes.com/event/international-probiotics-conference/
LOCATION:Budapest\, Hungary
END:VEVENT
BEGIN:VEVENT
DTSTART;VALUE=DATE:20180530
DTEND;VALUE=DATE:20180601
DTSTAMP:20260423T014044
CREATED:20180420T190903Z
LAST-MODIFIED:20180420T190903Z
UID:717-1527638400-1527811199@www.microbiometimes.com
SUMMARY:Skin Microbiome Congress
DESCRIPTION:
URL:https://www.microbiometimes.com/event/skin-microbiome-congress/
LOCATION:Boston\, MA\, United States
END:VEVENT
BEGIN:VEVENT
DTSTART;VALUE=DATE:20180523
DTEND;VALUE=DATE:20180525
DTSTAMP:20260423T014044
CREATED:20180419T095111Z
LAST-MODIFIED:20180420T131237Z
UID:585-1527033600-1527206399@www.microbiometimes.com
SUMMARY:Microbiome Animal Health
DESCRIPTION:
URL:https://www.microbiometimes.com/event/microbiome-animal-health/
LOCATION:St. Louis\, United States
END:VEVENT
BEGIN:VEVENT
DTSTART;VALUE=DATE:20180523
DTEND;VALUE=DATE:20180524
DTSTAMP:20260423T014044
CREATED:20180419T094618Z
LAST-MODIFIED:20180420T131247Z
UID:577-1527033600-1527119999@www.microbiometimes.com
SUMMARY:Microbiome Futures
DESCRIPTION:
URL:https://www.microbiometimes.com/event/microbiome-futures/
LOCATION:New York\, United States
END:VEVENT
BEGIN:VEVENT
DTSTART;VALUE=DATE:20180515
DTEND;VALUE=DATE:20180518
DTSTAMP:20260423T014044
CREATED:20180419T095836Z
LAST-MODIFIED:20180419T095843Z
UID:594-1526342400-1526601599@www.microbiometimes.com
SUMMARY:Vitafoods Europe
DESCRIPTION:
URL:https://www.microbiometimes.com/event/vitafoods-europe/
LOCATION:Geneva\, Switzerland
END:VEVENT
BEGIN:VEVENT
DTSTART;VALUE=DATE:20180508
DTEND;VALUE=DATE:20180510
DTSTAMP:20260423T014044
CREATED:20180420T191121Z
LAST-MODIFIED:20180420T191121Z
UID:722-1525737600-1525910399@www.microbiometimes.com
SUMMARY:Cancer Microbiome Congress
DESCRIPTION:
URL:https://www.microbiometimes.com/event/cancer-microbiome-congress/
END:VEVENT
BEGIN:VEVENT
DTSTART;VALUE=DATE:20180423
DTEND;VALUE=DATE:20180424
DTSTAMP:20260423T014044
CREATED:20180420T191013Z
LAST-MODIFIED:20180422T191356Z
UID:719-1524441600-1524527999@www.microbiometimes.com
SUMMARY:Microbiome Invest
DESCRIPTION:
URL:https://www.microbiometimes.com/event/microbiome-invest/
LOCATION:London\, United Kingdom
END:VEVENT
END:VCALENDAR