BEGIN:VCALENDAR
VERSION:2.0
PRODID:-//Microbiome Times Magazine - ECPv6.11.2.1//NONSGML v1.0//EN
CALSCALE:GREGORIAN
METHOD:PUBLISH
X-WR-CALNAME:Microbiome Times Magazine
X-ORIGINAL-URL:https://www.microbiometimes.com
X-WR-CALDESC:Events for Microbiome Times Magazine
REFRESH-INTERVAL;VALUE=DURATION:PT1H
X-Robots-Tag:noindex
X-PUBLISHED-TTL:PT1H
BEGIN:VTIMEZONE
TZID:Europe/Athens
BEGIN:DAYLIGHT
TZOFFSETFROM:+0200
TZOFFSETTO:+0300
TZNAME:EEST
DTSTART:20190331T010000
END:DAYLIGHT
BEGIN:STANDARD
TZOFFSETFROM:+0300
TZOFFSETTO:+0200
TZNAME:EET
DTSTART:20191027T010000
END:STANDARD
END:VTIMEZONE
BEGIN:VEVENT
DTSTART;VALUE=DATE:20191022
DTEND;VALUE=DATE:20191024
DTSTAMP:20260422T184856
CREATED:20191017T084643Z
LAST-MODIFIED:20191017T085436Z
UID:3506-1571702400-1571875199@www.microbiometimes.com
SUMMARY:2nd Microbiome Movement – Animal Health & Nutrition Summit
DESCRIPTION:As scientific researchers continue to investigate the complexities of the animal microbiome\, our mission for the 2nd Microbiome Movement – Animal Health & Nutrition Summit is simple: Unite pioneering industry and academic researchers to lay out the foundational framework around the unique scientific and translational challenges involved in developing and commercializing nutritional and therapeutic solutions that harness the animal microbiome to improve performance and overall health. \nOur conversations have highlighted that although a strong commercial opportunity exists\, there are critical areas of basic science that need addressing including demonstrating causality of the animal gut microbiome\, understanding the impact of antibiotics\, integrating –omics approaches with robust study programs that demonstrate product efficacy\, as well as navigating regulatory\, IP and commercialization pathways to ensure product success. \nIf you’re keen to make sense of animal microbiome science and its application in both the pet and livestock industries\, join your scientifically-driven peers from the nutritional\, pharmaceutical and academic community to help you create safe and effective microbiome-targeted products that improve animal health and nutrition.
URL:https://www.microbiometimes.com/event/2nd-microbiome-movement-animal-health-nutrition-summit/
LOCATION:St Louis\, MO\, United States
ATTACH;FMTTYPE=image/png:https://www.microbiometimes.com/wp-content/uploads/2019/10/St-Louis-Event.png
ORGANIZER;CN="Hanson Wade":MAILTO:info@hansonwade.com
END:VEVENT
END:VCALENDAR