BEGIN:VCALENDAR
VERSION:2.0
PRODID:-//Microbiome Times Magazine - ECPv6.11.2.1//NONSGML v1.0//EN
CALSCALE:GREGORIAN
METHOD:PUBLISH
X-WR-CALNAME:Microbiome Times Magazine
X-ORIGINAL-URL:https://www.microbiometimes.com
X-WR-CALDESC:Events for Microbiome Times Magazine
REFRESH-INTERVAL;VALUE=DURATION:PT1H
X-Robots-Tag:noindex
X-PUBLISHED-TTL:PT1H
BEGIN:VTIMEZONE
TZID:Europe/Athens
BEGIN:DAYLIGHT
TZOFFSETFROM:+0200
TZOFFSETTO:+0300
TZNAME:EEST
DTSTART:20190331T010000
END:DAYLIGHT
BEGIN:STANDARD
TZOFFSETFROM:+0300
TZOFFSETTO:+0200
TZNAME:EET
DTSTART:20191027T010000
END:STANDARD
END:VTIMEZONE
BEGIN:VEVENT
DTSTART;VALUE=DATE:20190617
DTEND;VALUE=DATE:20190621
DTSTAMP:20260423T012859
CREATED:20190403T123722Z
LAST-MODIFIED:20190403T123722Z
UID:2541-1560729600-1561075199@www.microbiometimes.com
SUMMARY:IPC 2019
DESCRIPTION:IPC is the worldwide biggest scientific conference that focuses on probiotics\, prebiotics\, gut microbiota and health. At IPC leading scientists from industry and academia present current advances in understanding and influencing the interaction between gut microbiota and human health. The goal of conference is to provide a scientific forum for all stakeholders of probiotics\, prebiotics and gut health and to enable the interactive exchange of state-of-the-art knowledge. The conference is focused on evidence-based benefits\, health claims proven in scientific experiments and clinical trials. \nNew scientific evidences that support or question the efficiency of already existing or prospective substances and applications will be conferred. In addition novel strains\, controversial but scientifically solid ideas\, approaches and visions will be presented as well.
URL:https://www.microbiometimes.com/event/ipc-2019/
LOCATION:Prague\, Czech Republic
ATTACH;FMTTYPE=image/png:https://www.microbiometimes.com/wp-content/uploads/2019/04/Screen-Shot-2019-04-03-at-15.34.58.png
END:VEVENT
END:VCALENDAR