BEGIN:VCALENDAR
VERSION:2.0
PRODID:-//Microbiome Times Magazine - ECPv6.11.2.1//NONSGML v1.0//EN
CALSCALE:GREGORIAN
METHOD:PUBLISH
X-WR-CALNAME:Microbiome Times Magazine
X-ORIGINAL-URL:https://www.microbiometimes.com
X-WR-CALDESC:Events for Microbiome Times Magazine
REFRESH-INTERVAL;VALUE=DURATION:PT1H
X-Robots-Tag:noindex
X-PUBLISHED-TTL:PT1H
BEGIN:VTIMEZONE
TZID:Europe/Athens
BEGIN:DAYLIGHT
TZOFFSETFROM:+0200
TZOFFSETTO:+0300
TZNAME:EEST
DTSTART:20190331T010000
END:DAYLIGHT
BEGIN:STANDARD
TZOFFSETFROM:+0300
TZOFFSETTO:+0200
TZNAME:EET
DTSTART:20191027T010000
END:STANDARD
END:VTIMEZONE
BEGIN:VEVENT
DTSTART;VALUE=DATE:20190520
DTEND;VALUE=DATE:20190523
DTSTAMP:20260423T030126
CREATED:20190101T181218Z
LAST-MODIFIED:20190101T181218Z
UID:2019-1558310400-1558569599@www.microbiometimes.com
SUMMARY:Microbiome R&D and Business Collaboration Forum: Europe
DESCRIPTION:The 6th Microbiome R&D and Business Collaboration Forum is one of the three meetings forming the Microbiome Probiotics Series: Europe. \nThe 2019 series will bring together more than 400 industry\, academic\, and investment leaders to discuss the must cutting-edge microbiome research\, challenges and opportunities in moving research towards commercialisation\, and potential partnerships and collaborations. \nFor the first time\, this event will be three days. As an attendee\, you will get more in-depth content on the key challenges and topics facing researchers and product developers\, and more time to establish partnerships. Hear from top scientists in the field\, meet willing investors and collaborators\, and learn about exciting new companies in the microbiome space. With ample networking time and interactive sessions like the roundtable discussions\, there will be many opportunities to broaden your connections.
URL:https://www.microbiometimes.com/event/microbiome-rd-and-business-collaboration-forum-europe/
LOCATION:Postilion Convention Centre WTC\, Beursplein 37\, Rotterdam\, 3011 AA\, Netherlands
ATTACH;FMTTYPE=image/png:https://www.microbiometimes.com/wp-content/uploads/2019/01/global_engage_logo.png
END:VEVENT
END:VCALENDAR