BEGIN:VCALENDAR
VERSION:2.0
PRODID:-//Microbiome Times Magazine - ECPv6.11.2.1//NONSGML v1.0//EN
CALSCALE:GREGORIAN
METHOD:PUBLISH
X-ORIGINAL-URL:https://www.microbiometimes.com
X-WR-CALDESC:Events for Microbiome Times Magazine
REFRESH-INTERVAL;VALUE=DURATION:PT1H
X-Robots-Tag:noindex
X-PUBLISHED-TTL:PT1H
BEGIN:VTIMEZONE
TZID:Europe/Athens
BEGIN:DAYLIGHT
TZOFFSETFROM:+0200
TZOFFSETTO:+0300
TZNAME:EEST
DTSTART:20190331T010000
END:DAYLIGHT
BEGIN:STANDARD
TZOFFSETFROM:+0300
TZOFFSETTO:+0200
TZNAME:EET
DTSTART:20191027T010000
END:STANDARD
END:VTIMEZONE
BEGIN:VEVENT
DTSTART;VALUE=DATE:20190226
DTEND;VALUE=DATE:20190301
DTSTAMP:20260423T061326
CREATED:20180419T095631Z
LAST-MODIFIED:20190101T184927Z
UID:591-1551139200-1551398399@www.microbiometimes.com
SUMMARY:Microbiome AgBioTech Summit
DESCRIPTION:As microbial-derived products are poised to disrupt the agriculture industry\, fundamental challenges remain in understanding the complexity of plant-soil microbial interactions\, identifying microbial candidates amenable to fermentation and formulation on a large scale\, demonstrating added value of agbiologicals in an agchemical dominated market and delivering agbiological products into the hands of growers. \nThe 3rd Microbiome Movement – AgBioTech Summit will unite KOLs\, agbiotech\, agrochemical companies\, research institutions and technology experts to harness the plant-soil microbiome and accelerate commercialization of effective next generation agbiologicals. \nJoin the leaders in agbiological product development as they discuss the latest data-driven case studies and forge collaborations you need to unlock the full potential of the plant-soil microbiome.
URL:https://www.microbiometimes.com/event/microbiome-agbiotech-summit/
LOCATION:Hilton Durham\, 3800 Hillsborough Rd\, Durham\, NC\, 27705\, United States
ATTACH;FMTTYPE=image/png:https://www.microbiometimes.com/wp-content/uploads/2018/04/MM_AGBIOTECH-e1534772911941.png
END:VEVENT
END:VCALENDAR