BEGIN:VCALENDAR
VERSION:2.0
PRODID:-//Microbiome Times Magazine - ECPv6.11.2.1//NONSGML v1.0//EN
CALSCALE:GREGORIAN
METHOD:PUBLISH
X-ORIGINAL-URL:https://www.microbiometimes.com
X-WR-CALDESC:Events for Microbiome Times Magazine
REFRESH-INTERVAL;VALUE=DURATION:PT1H
X-Robots-Tag:noindex
X-PUBLISHED-TTL:PT1H
BEGIN:VTIMEZONE
TZID:Europe/Athens
BEGIN:DAYLIGHT
TZOFFSETFROM:+0200
TZOFFSETTO:+0300
TZNAME:EEST
DTSTART:20190331T010000
END:DAYLIGHT
BEGIN:STANDARD
TZOFFSETFROM:+0300
TZOFFSETTO:+0200
TZNAME:EET
DTSTART:20191027T010000
END:STANDARD
END:VTIMEZONE
BEGIN:VEVENT
DTSTART;VALUE=DATE:20190213
DTEND;VALUE=DATE:20190216
DTSTAMP:20260423T074618
CREATED:20190101T180458Z
LAST-MODIFIED:20190101T180458Z
UID:2014-1550016000-1550275199@www.microbiometimes.com
SUMMARY:Probiota 2019
DESCRIPTION:Organised by the publishers of NutraIngredients\, Probiota will combine the latest insights from science\, regulation and business to provide delegates with the ultimate event to bridge the gap between the worlds of business\, regulation\, research and product development in the rapidly growing and overlapping fields of probiotics\, prebiotics and the microbiome. \nOn the agenda are engaging sessions on the scientific and commercial potential of the fermented foods trend\, dealing with and making sense of big data and bioinformatics\, the importance of our microbiome in metabolism. In addition there will be sessions looking at the latest microbiome start-up trailblazers and a deep dive into the growing field of microbiome therapeutics and drug development. \nOver the three days there will also be key updates from the IPA\, alongside regulatory insights from top experts\, and sessions looking at how proposed taxonomic changes will affect your business or research.
URL:https://www.microbiometimes.com/event/probiota-2019/
LOCATION:Scandic Copenhagen\, Vester Søgade 6\, Copenhagen\, 1601\, Denmark
ATTACH;FMTTYPE=image/png:https://www.microbiometimes.com/wp-content/uploads/2019/01/PB-C-2019-Master-logo-.png
END:VEVENT
END:VCALENDAR