BEGIN:VCALENDAR
VERSION:2.0
PRODID:-//Microbiome Times Magazine - ECPv6.11.2.1//NONSGML v1.0//EN
CALSCALE:GREGORIAN
METHOD:PUBLISH
X-ORIGINAL-URL:https://www.microbiometimes.com
X-WR-CALDESC:Events for Microbiome Times Magazine
REFRESH-INTERVAL;VALUE=DURATION:PT1H
X-Robots-Tag:noindex
X-PUBLISHED-TTL:PT1H
BEGIN:VTIMEZONE
TZID:Europe/Athens
BEGIN:DAYLIGHT
TZOFFSETFROM:+0200
TZOFFSETTO:+0300
TZNAME:EEST
DTSTART:20190331T010000
END:DAYLIGHT
BEGIN:STANDARD
TZOFFSETFROM:+0300
TZOFFSETTO:+0200
TZNAME:EET
DTSTART:20191027T010000
END:STANDARD
END:VTIMEZONE
BEGIN:VEVENT
DTSTART;VALUE=DATE:20190206
DTEND;VALUE=DATE:20190208
DTSTAMP:20260423T091151
CREATED:20190101T175716Z
LAST-MODIFIED:20190101T175716Z
UID:2010-1549411200-1549583999@www.microbiometimes.com
SUMMARY:North American Microbiome Congress
DESCRIPTION:The 4th Annual North America Microbiome Congress in Washington DC\, by Kisaco Research\, has become a trusted learning and networking platform and a true business community for microbiologists\, clinicians regulatory and industry executives who require an insight into the latest microbiome research\, clinical trials and collaborative partnerships. \nWith three distinct streams\, targeted towards academics\, clinicians\, and pharma-biotechs\, tackling functional understanding\, therapeutic development\, and preventative approaches respectively\, every single moment of your experience at the Congress will be tailored directly to you. We invite you to join us for 2 days of intense learning\, mind-sharing and networking opportunities designed to encourage meaningful connections. \n\nMeet and learn from industry leaders\nConnect in person with the FDA\nSecure funding from the NIH\nNetwork with top academics and clinicians in the field
URL:https://www.microbiometimes.com/event/north-american-microbiome-congress/
LOCATION:Renaissance Hotel\, 999 9TH ST NW\, WASHINGTON\, WA\, 20001\, United States
ATTACH;FMTTYPE=image/jpeg:https://www.microbiometimes.com/wp-content/uploads/2019/01/northamericanmicrobiomecongresslogo_0.jpg
END:VEVENT
END:VCALENDAR