BEGIN:VCALENDAR
VERSION:2.0
PRODID:-//Microbiome Times Magazine - ECPv6.11.2.1//NONSGML v1.0//EN
CALSCALE:GREGORIAN
METHOD:PUBLISH
X-ORIGINAL-URL:https://www.microbiometimes.com
X-WR-CALDESC:Events for Microbiome Times Magazine
REFRESH-INTERVAL;VALUE=DURATION:PT1H
X-Robots-Tag:noindex
X-PUBLISHED-TTL:PT1H
BEGIN:VTIMEZONE
TZID:Europe/Athens
BEGIN:DAYLIGHT
TZOFFSETFROM:+0200
TZOFFSETTO:+0300
TZNAME:EEST
DTSTART:20180325T010000
END:DAYLIGHT
BEGIN:STANDARD
TZOFFSETFROM:+0300
TZOFFSETTO:+0200
TZNAME:EET
DTSTART:20181028T010000
END:STANDARD
END:VTIMEZONE
BEGIN:VTIMEZONE
TZID:Europe/London
BEGIN:DAYLIGHT
TZOFFSETFROM:+0000
TZOFFSETTO:+0100
TZNAME:BST
DTSTART:20180325T010000
END:DAYLIGHT
BEGIN:STANDARD
TZOFFSETFROM:+0100
TZOFFSETTO:+0000
TZNAME:GMT
DTSTART:20181028T010000
END:STANDARD
END:VTIMEZONE
BEGIN:VEVENT
DTSTART;VALUE=DATE:20181113
DTEND;VALUE=DATE:20181116
DTSTAMP:20260423T115517
CREATED:20180419T095355Z
LAST-MODIFIED:20180419T095355Z
UID:588-1542067200-1542326399@www.microbiometimes.com
SUMMARY:Microbiome Human Nutrition
DESCRIPTION:
URL:https://www.microbiometimes.com/event/microbiome-human-nutrition/
LOCATION:Boston\, MA\, United States
END:VEVENT
BEGIN:VEVENT
DTSTART;VALUE=DATE:20181114
DTEND;VALUE=DATE:20181116
DTSTAMP:20260423T115517
CREATED:20180928T195758Z
LAST-MODIFIED:20180928T195758Z
UID:1691-1542153600-1542326399@www.microbiometimes.com
SUMMARY:4th Annual European Microbiome Congress
DESCRIPTION:The Annual European Microbiome Congress has become a trusted learning and networking platform for leading academics\, practicing clinicians\, pharmaceutical and nutrition companies\, biotech entrepreneurs and investors\, government and regulatory bodies and industry leaders who require insight into the latest microbiome research\, clinical trials and multi-disciplinary collaborations.
URL:https://www.microbiometimes.com/event/4th-annual-european-microbiome-congress/
LOCATION:ILEC Conference Centre\, 47 Lillie Rd\, Fulham\, London\, SW6 1UD\, United Kingdom
ATTACH;FMTTYPE=image/png:https://www.microbiometimes.com/wp-content/uploads/2018/09/microbiomecongresseu4yearlogo.png
END:VEVENT
END:VCALENDAR