BEGIN:VCALENDAR
VERSION:2.0
PRODID:-//Microbiome Times Magazine - ECPv6.11.2.1//NONSGML v1.0//EN
CALSCALE:GREGORIAN
METHOD:PUBLISH
X-WR-CALNAME:Microbiome Times Magazine
X-ORIGINAL-URL:https://www.microbiometimes.com
X-WR-CALDESC:Events for Microbiome Times Magazine
REFRESH-INTERVAL;VALUE=DURATION:PT1H
X-Robots-Tag:noindex
X-PUBLISHED-TTL:PT1H
BEGIN:VTIMEZONE
TZID:Europe/Athens
BEGIN:DAYLIGHT
TZOFFSETFROM:+0200
TZOFFSETTO:+0300
TZNAME:EEST
DTSTART:20180325T010000
END:DAYLIGHT
BEGIN:STANDARD
TZOFFSETFROM:+0300
TZOFFSETTO:+0200
TZNAME:EET
DTSTART:20181028T010000
END:STANDARD
END:VTIMEZONE
BEGIN:VEVENT
DTSTART;VALUE=DATE:20181029
DTEND;VALUE=DATE:20181031
DTSTAMP:20260423T115218
CREATED:20180419T094756Z
LAST-MODIFIED:20180804T095347Z
UID:580-1540771200-1540943999@www.microbiometimes.com
SUMMARY:Microbiome R&D and Business Collaboration Forum: USA
DESCRIPTION:As part of its worldwide microbiome series\, Global Engage is pleased to announce the 6th Microbiome R&D and Business Collaboration Forum: USA which will be held on 29-30 October\, 2018 and will be co-located with the 3rd Probiotics Congress: USA. \nLast year’s congress attracted 400 industry\, academic and investment leaders to discuss the microbiome in health and disease; challenges and opportunities in moving research towards commercialization; and potential partnerships and collaborations. \nAttendees are expected to converge on San Diego this Fall to hear a 70-strong speaker faculty discuss the latest developments; engage in expert-led roundtable discussions and extended panel discussions; analyse the newest biotechs and start-ups worthy of investment; and utilise over seven hours of dedicated networking time to broaden business connections within the field. The Global Engage series is rapidly gaining a fantastic reputation as the number one microbiome networking event. If looking to either learn more from the top scientists in the microbiome and probiotic space; showcase exciting developments in your research; or seek partnerships and funding within the industry; it is a congress not to be missed.
URL:https://www.microbiometimes.com/event/microbiome-rd-and-business-collaboration-forum-usa/
LOCATION:Paradise Point Resort & Spa\, 1404 Vacation Rd\, San Diego\, CA\, 92109\, United States
ATTACH;FMTTYPE=image/jpeg:https://www.microbiometimes.com/wp-content/uploads/2018/04/Microbiome-USA-2018.jpg
END:VEVENT
END:VCALENDAR